BEGIN:VCALENDAR
VERSION:2.0
PRODID:-//Woodbridge Crossing - ECPv6.15.20//NONSGML v1.0//EN
CALSCALE:GREGORIAN
METHOD:PUBLISH
X-ORIGINAL-URL:https://wc1865.com
X-WR-CALDESC:Events for Woodbridge Crossing
REFRESH-INTERVAL;VALUE=DURATION:PT1H
X-Robots-Tag:noindex
X-PUBLISHED-TTL:PT1H
BEGIN:VTIMEZONE
TZID:America/Los_Angeles
BEGIN:DAYLIGHT
TZOFFSETFROM:-0800
TZOFFSETTO:-0700
TZNAME:PDT
DTSTART:20250309T100000
END:DAYLIGHT
BEGIN:STANDARD
TZOFFSETFROM:-0700
TZOFFSETTO:-0800
TZNAME:PST
DTSTART:20251102T090000
END:STANDARD
BEGIN:DAYLIGHT
TZOFFSETFROM:-0800
TZOFFSETTO:-0700
TZNAME:PDT
DTSTART:20260308T100000
END:DAYLIGHT
BEGIN:STANDARD
TZOFFSETFROM:-0700
TZOFFSETTO:-0800
TZNAME:PST
DTSTART:20261101T090000
END:STANDARD
BEGIN:DAYLIGHT
TZOFFSETFROM:-0800
TZOFFSETTO:-0700
TZNAME:PDT
DTSTART:20270314T100000
END:DAYLIGHT
BEGIN:STANDARD
TZOFFSETFROM:-0700
TZOFFSETTO:-0800
TZNAME:PST
DTSTART:20271107T090000
END:STANDARD
END:VTIMEZONE
BEGIN:VEVENT
DTSTART;TZID=America/Los_Angeles:20260417T200000
DTEND;TZID=America/Los_Angeles:20260417T230000
DTSTAMP:20260421T070219
CREATED:20260323T174623Z
LAST-MODIFIED:20260323T174623Z
UID:2675-1776456000-1776466800@wc1865.com
SUMMARY:Working Class Band
DESCRIPTION:Get ready to dance to Classic Rock from The Working Class Band\, inside the historic Bentley Building at Woodbridge Crossing. No cover.
URL:https://wc1865.com/event/working-class-band/
LOCATION:Woodbridge Crossing\, 18939 N Lower Sacramento Road\, Woodbridge\, CA\, 95258\, United States
CATEGORIES:Friday Night Live at Woodbridge Crossing
ATTACH;FMTTYPE=image/webp:https://wc1865.com/wp-content/uploads/2026/03/04-17_workingclassband.webp
ORGANIZER;CN="Woodbridge Crossing":MAILTO:stevenjr@woodbridgecrossing.net
END:VEVENT
END:VCALENDAR