BEGIN:VCALENDAR
VERSION:2.0
PRODID:-//Woodbridge Crossing - ECPv6.15.20//NONSGML v1.0//EN
CALSCALE:GREGORIAN
METHOD:PUBLISH
X-WR-CALNAME:Woodbridge Crossing
X-ORIGINAL-URL:https://wc1865.com
X-WR-CALDESC:Events for Woodbridge Crossing
REFRESH-INTERVAL;VALUE=DURATION:PT1H
X-Robots-Tag:noindex
X-PUBLISHED-TTL:PT1H
BEGIN:VTIMEZONE
TZID:America/Los_Angeles
BEGIN:DAYLIGHT
TZOFFSETFROM:-0800
TZOFFSETTO:-0700
TZNAME:PDT
DTSTART:20250309T100000
END:DAYLIGHT
BEGIN:STANDARD
TZOFFSETFROM:-0700
TZOFFSETTO:-0800
TZNAME:PST
DTSTART:20251102T090000
END:STANDARD
BEGIN:DAYLIGHT
TZOFFSETFROM:-0800
TZOFFSETTO:-0700
TZNAME:PDT
DTSTART:20260308T100000
END:DAYLIGHT
BEGIN:STANDARD
TZOFFSETFROM:-0700
TZOFFSETTO:-0800
TZNAME:PST
DTSTART:20261101T090000
END:STANDARD
BEGIN:DAYLIGHT
TZOFFSETFROM:-0800
TZOFFSETTO:-0700
TZNAME:PDT
DTSTART:20270314T100000
END:DAYLIGHT
BEGIN:STANDARD
TZOFFSETFROM:-0700
TZOFFSETTO:-0800
TZNAME:PST
DTSTART:20271107T090000
END:STANDARD
END:VTIMEZONE
BEGIN:VEVENT
DTSTART;TZID=America/Los_Angeles:20260213T190000
DTEND;TZID=America/Los_Angeles:20260213T220000
DTSTAMP:20260421T094710
CREATED:20260202T204614Z
LAST-MODIFIED:20260213T002854Z
UID:2627-1771009200-1771020000@wc1865.com
SUMMARY:Feel Good Dave | Galentine’s at The Crossing
DESCRIPTION:Feel Good Dave brings a fun\, feel-good mix of familiar favorites for a social Friday night at Woodbridge Crossing. Join us for dinner\, cocktails\, and live music in a relaxed\, welcoming setting. Come with friends\, settle in\, and enjoy the night. \nFeatured cocktails and Galentine’s specials in the bar for the evening.
URL:https://wc1865.com/event/feel-good-dave-galentines-at-the-crossing/
LOCATION:Woodbridge Crossing\, 18939 N Lower Sacramento Road\, Woodbridge\, CA\, 95258\, United States
CATEGORIES:Friday Night Live at Woodbridge Crossing
ATTACH;FMTTYPE=image/jpeg:https://wc1865.com/wp-content/uploads/2026/02/02-13_Dave_Atencio.jpg
ORGANIZER;CN="Woodbridge Crossing":MAILTO:stevenjr@woodbridgecrossing.net
END:VEVENT
END:VCALENDAR