BEGIN:VCALENDAR
VERSION:2.0
PRODID:-//Woodbridge Crossing - ECPv6.15.20//NONSGML v1.0//EN
CALSCALE:GREGORIAN
METHOD:PUBLISH
X-WR-CALNAME:Woodbridge Crossing
X-ORIGINAL-URL:https://wc1865.com
X-WR-CALDESC:Events for Woodbridge Crossing
REFRESH-INTERVAL;VALUE=DURATION:PT1H
X-Robots-Tag:noindex
X-PUBLISHED-TTL:PT1H
BEGIN:VTIMEZONE
TZID:America/Los_Angeles
BEGIN:DAYLIGHT
TZOFFSETFROM:-0800
TZOFFSETTO:-0700
TZNAME:PDT
DTSTART:20250309T100000
END:DAYLIGHT
BEGIN:STANDARD
TZOFFSETFROM:-0700
TZOFFSETTO:-0800
TZNAME:PST
DTSTART:20251102T090000
END:STANDARD
BEGIN:DAYLIGHT
TZOFFSETFROM:-0800
TZOFFSETTO:-0700
TZNAME:PDT
DTSTART:20260308T100000
END:DAYLIGHT
BEGIN:STANDARD
TZOFFSETFROM:-0700
TZOFFSETTO:-0800
TZNAME:PST
DTSTART:20261101T090000
END:STANDARD
BEGIN:DAYLIGHT
TZOFFSETFROM:-0800
TZOFFSETTO:-0700
TZNAME:PDT
DTSTART:20270314T100000
END:DAYLIGHT
BEGIN:STANDARD
TZOFFSETFROM:-0700
TZOFFSETTO:-0800
TZNAME:PST
DTSTART:20271107T090000
END:STANDARD
END:VTIMEZONE
BEGIN:VEVENT
DTSTART;TZID=America/Los_Angeles:20260206T200000
DTEND;TZID=America/Los_Angeles:20260206T230000
DTSTAMP:20260421T095328
CREATED:20260202T221430Z
LAST-MODIFIED:20260203T003050Z
UID:2645-1770408000-1770418800@wc1865.com
SUMMARY:Whiskey Kiss
DESCRIPTION:Whiskey Kiss brings a high-energy mix of country\, classic rock\, and pop to Woodbridge Crossing for a fun Friday night out. Familiar favorites\, great music\, and the kind of atmosphere that’s made for enjoying dinner\, drinks\, and good company. \nJoin us for live music\, cocktails\, and a relaxed night with friends inside The Crossing.
URL:https://wc1865.com/event/whiskey-kiss/
LOCATION:Woodbridge Crossing\, 18939 N Lower Sacramento Road\, Woodbridge\, CA\, 95258\, United States
CATEGORIES:Friday Night Live at Woodbridge Crossing
ATTACH;FMTTYPE=image/jpeg:https://wc1865.com/wp-content/uploads/2026/02/02-06_whiskey_kiss-1.jpg
ORGANIZER;CN="Woodbridge Crossing":MAILTO:stevenjr@woodbridgecrossing.net
END:VEVENT
END:VCALENDAR