BEGIN:VCALENDAR
VERSION:2.0
PRODID:-//Woodbridge Crossing - ECPv6.15.20//NONSGML v1.0//EN
CALSCALE:GREGORIAN
METHOD:PUBLISH
X-WR-CALNAME:Woodbridge Crossing
X-ORIGINAL-URL:https://wc1865.com
X-WR-CALDESC:Events for Woodbridge Crossing
REFRESH-INTERVAL;VALUE=DURATION:PT1H
X-Robots-Tag:noindex
X-PUBLISHED-TTL:PT1H
BEGIN:VTIMEZONE
TZID:America/Los_Angeles
BEGIN:DAYLIGHT
TZOFFSETFROM:-0800
TZOFFSETTO:-0700
TZNAME:PDT
DTSTART:20250309T100000
END:DAYLIGHT
BEGIN:STANDARD
TZOFFSETFROM:-0700
TZOFFSETTO:-0800
TZNAME:PST
DTSTART:20251102T090000
END:STANDARD
BEGIN:DAYLIGHT
TZOFFSETFROM:-0800
TZOFFSETTO:-0700
TZNAME:PDT
DTSTART:20260308T100000
END:DAYLIGHT
BEGIN:STANDARD
TZOFFSETFROM:-0700
TZOFFSETTO:-0800
TZNAME:PST
DTSTART:20261101T090000
END:STANDARD
BEGIN:DAYLIGHT
TZOFFSETFROM:-0800
TZOFFSETTO:-0700
TZNAME:PDT
DTSTART:20270314T100000
END:DAYLIGHT
BEGIN:STANDARD
TZOFFSETFROM:-0700
TZOFFSETTO:-0800
TZNAME:PST
DTSTART:20271107T090000
END:STANDARD
END:VTIMEZONE
BEGIN:VEVENT
DTSTART;TZID=America/Los_Angeles:20260109T200000
DTEND;TZID=America/Los_Angeles:20260109T230000
DTSTAMP:20260421T094619
CREATED:20251230T014559Z
LAST-MODIFIED:20251230T014559Z
UID:2583-1767988800-1767999600@wc1865.com
SUMMARY:Live at The Crossing: Whiskey Kiss
DESCRIPTION:🎸 Woodbridge Crossing Live w/ Whiskey Kiss\nFriday\, January 9 | 8–11 PM | Inside \nCountry roots. Rock ’n roll attitude. Pure Friday night energy. 🎶\nWhiskey Kiss is turning up the heat at Rockin’ the Crossin’\, bringing their high-powered mix of country\, rock\, and blues to Woodbridge Crossing for a Friday you won’t want to miss. \nKick back with your favorite cocktail\, dig into a hand-cut steak\, and let the music do the rest. It’s the kind of night The Crossing was made for—laid-back\, lively\, and full of flavor. \nNo cover • First come\, first served bar seating
URL:https://wc1865.com/event/live-at-the-crossing-whiskey-kiss/
LOCATION:Woodbridge Crossing\, 18939 N Lower Sacramento Road\, Woodbridge\, CA\, 95258\, United States
CATEGORIES:Friday Night Live at Woodbridge Crossing,Rockin' the Crossin'
ATTACH;FMTTYPE=image/jpeg:https://wc1865.com/wp-content/uploads/2025/12/01-09-whiskey_kiss.jpg
ORGANIZER;CN="Woodbridge Crossing":MAILTO:stevenjr@woodbridgecrossing.net
END:VEVENT
END:VCALENDAR